BEGIN:VCALENDAR
VERSION:2.0
PRODID:-//Contr&#039;pied - ECPv6.15.11//NONSGML v1.0//EN
CALSCALE:GREGORIAN
METHOD:PUBLISH
X-ORIGINAL-URL:https://www.contrpied.com
X-WR-CALDESC:Évènements pour Contr&#039;pied
REFRESH-INTERVAL;VALUE=DURATION:PT1H
X-Robots-Tag:noindex
X-PUBLISHED-TTL:PT1H
BEGIN:VTIMEZONE
TZID:Europe/Paris
BEGIN:DAYLIGHT
TZOFFSETFROM:+0100
TZOFFSETTO:+0200
TZNAME:CEST
DTSTART:20250330T010000
END:DAYLIGHT
BEGIN:STANDARD
TZOFFSETFROM:+0200
TZOFFSETTO:+0100
TZNAME:CET
DTSTART:20251026T010000
END:STANDARD
BEGIN:DAYLIGHT
TZOFFSETFROM:+0100
TZOFFSETTO:+0200
TZNAME:CEST
DTSTART:20260329T010000
END:DAYLIGHT
BEGIN:STANDARD
TZOFFSETFROM:+0200
TZOFFSETTO:+0100
TZNAME:CET
DTSTART:20261025T010000
END:STANDARD
BEGIN:DAYLIGHT
TZOFFSETFROM:+0100
TZOFFSETTO:+0200
TZNAME:CEST
DTSTART:20270328T010000
END:DAYLIGHT
BEGIN:STANDARD
TZOFFSETFROM:+0200
TZOFFSETTO:+0100
TZNAME:CET
DTSTART:20271031T010000
END:STANDARD
END:VTIMEZONE
BEGIN:VEVENT
DTSTART;TZID=Europe/Paris:20260404T200000
DTEND;TZID=Europe/Paris:20260404T210000
DTSTAMP:20260421T113249
CREATED:20260302T101253Z
LAST-MODIFIED:20260302T103418Z
UID:1425-1775332800-1775336400@www.contrpied.com
SUMMARY:Paysages mouvants - Représentation
DESCRIPTION:Nous sommes très heureux de vous annoncer la prochaine date de Paysages Mouvants \n Samedi 4 avril 2026 – 20h  Espace Culturel Eolienne Arnage\nUn spectacle de danse contemporaine qui traite des paysages qui nous entourent\, de notre lien à la nature\, du temps qui passe\, et interroge nos paysages rêvés de demain.\nRéservation : https://eolienne.arnage.fr/index.php?ev=aWU8ho\nCrédit photo : Clément Szczuczynski
URL:https://www.contrpied.com/event/paysages-mouvants-samedi-4-avril-2026/
LOCATION:Espace Culturel de l’Eolienne\, 67 rue des collèges\, Arnage\, 72230\, France
CATEGORIES:Spectacle
END:VEVENT
BEGIN:VEVENT
DTSTART;TZID=Europe/Paris:20260315T101500
DTEND;TZID=Europe/Paris:20260315T121500
DTSTAMP:20260421T113249
CREATED:20260302T103231Z
LAST-MODIFIED:20260302T103231Z
UID:1432-1773569700-1773576900@www.contrpied.com
SUMMARY:Stage de danse contemporaine avec Alizée-Marie Provost
DESCRIPTION:Le dimanche 15 mars\, nous accueillons Alizée-Marie Provost (Professeur diplômée d’Etat et danseuse interprète) pour un stage de danse contemporaine ouvert à tous les danseurs dès 14 ans.\n\n\n 10h15 – 12h15\n Studio de danse des Saulnières au Mans\n 25€ / 20€ les moins de 20 ans et adhérents Contr’pied\n Inscription: https://www.helloasso.com/associations/contr-pied/evenements/stage-de-danse-contemporaine-avec-alizee-marie-provost
URL:https://www.contrpied.com/event/stage-de-danse-contemporaine-avec-alizee-marie-provost/
LOCATION:Les saulnières\, 239 Avenue Rhin et Danube\, Le mans\, 72000\, France
CATEGORIES:Stage
ORGANIZER;CN="Contr'pied":MAILTO:contrpied@gmail.com
END:VEVENT
END:VCALENDAR